Workbook

Sheet 目次
B1: Daigas Group Fact Book 2026
B3: 目次 | E3: Contents
B5: 1 | C5: {=_xlfn.LET(_xlpm.t,'1株式情報'!$A$1,_xlpm.s,SUBSTITUTE(SUBSTITUTE(_xlpm.t,CHAR(10)," ")," "," "),_xlpm.c,_xlfn.UNICODE(MID(_xlpm.s,_xlfn.SEQUENCE(LEN(_xlpm.s)),1)),_xlpm.p,IFERROR(MATCH(TRUE,((_xlpm.c>=65)*(_xlpm.c<=90)+(_xlpm.c>=97)*(_xlpm.c<=122))>0,0),LEN(_xlpm.s)+1),_xlpm.k,IF(_xlpm.p>1,IF(MID(_xlpm.s,_xlpm.p-1,1)="(",_xlpm.p-1,_xlpm.p),_xlpm.p),TRIM(LEFT(_xlpm.s,_xlpm.k-1)))} -> 株式情報 | E5: {=_xlfn.LET(_xlpm.t,'1株式情報'!$A$1,_xlpm.s,SUBSTITUTE(SUBSTITUTE(_xlpm.t,CHAR(10)," ")," "," "),_xlpm.c,_xlfn.UNICODE(MID(_xlpm.s,_xlfn.SEQUENCE(LEN(_xlpm.s)),1)),_xlpm.p,IFERROR(MATCH(TRUE,((_xlpm.c>=65)*(_xlpm.c<=90)+(_xlpm.c>=97)*(_xlpm.c<=122))>0,0),LEN(_xlpm.s)+1),_xlpm.k,IF(_xlpm.p>1,IF(MID(_xlpm.s,_xlpm.p-1,1)="(",_xlpm.p-1,_xlpm.p),_xlpm.p),TRIM(MID(_xlpm.s,_xlpm.k,LEN(_xlpm.s))))} -> Stock Information
B6: 2 | C6: {=_xlfn.LET(_xlpm.t,'2格付'!$A$1,_xlpm.s,SUBSTITUTE(SUBSTITUTE(_xlpm.t,CHAR(10)," ")," "," "),_xlpm.c,_xlfn.UNICODE(MID(_xlpm.s,_xlfn.SEQUENCE(LEN(_xlpm.s)),1)),_xlpm.p,IFERROR(MATCH(TRUE,((_xlpm.c>=65)*(_xlpm.c<=90)+(_xlpm.c>=97)*(_xlpm.c<=122))>0,0),LEN(_xlpm.s)+1),_xlpm.k,IF(_xlpm.p>1,IF(MID(_xlpm.s,_xlpm.p-1,1)="(",_xlpm.p-1,_xlpm.p),_xlpm.p),TRIM(LEFT(_xlpm.s,_xlpm.k-1)))} -> 格付 | E6: {=_xlfn.LET(_xlpm.t,'2格付'!$A$1,_xlpm.s,SUBSTITUTE(SUBSTITUTE(_xlpm.t,CHAR(10)," ")," "," "),_xlpm.c,_xlfn.UNICODE(MID(_xlpm.s,_xlfn.SEQUENCE(LEN(_xlpm.s)),1)),_xlpm.p,IFERROR(MATCH(TRUE,((_xlpm.c>=65)*(_xlpm.c<=90)+(_xlpm.c>=97)*(_xlpm.c<=122))>0,0),LEN(_xlpm.s)+1),_xlpm.k,IF(_xlpm.p>1,IF(MID(_xlpm.s,_xlpm.p-1,1)="(",_xlpm.p-1,_xlpm.p),_xlpm.p),TRIM(MID(_xlpm.s,_xlpm.k,LEN(_xlpm.s))))} -> Rating
B7: 3 | C7: {=_xlfn.LET(_xlpm.t,'3社債'!$A$1,_xlpm.s,SUBSTITUTE(SUBSTITUTE(_xlpm.t,CHAR(10)," ")," "," "),_xlpm.c,_xlfn.UNICODE(MID(_xlpm.s,_xlfn.SEQUENCE(LEN(_xlpm.s)),1)),_xlpm.p,IFERROR(MATCH(TRUE,((_xlpm.c>=65)*(_xlpm.c<=90)+(_xlpm.c>=97)*(_xlpm.c<=122))>0,0),LEN(_xlpm.s)+1),_xlpm.k,IF(_xlpm.p>1,IF(MID(_xlpm.s,_xlpm.p-1,1)="(",_xlpm.p-1,_xlpm.p),_xlpm.p),TRIM(LEFT(_xlpm.s,_xlpm.k-1)))} -> 社債 | E7: {=_xlfn.LET(_xlpm.t,'3社債'!$A$1,_xlpm.s,SUBSTITUTE(SUBSTITUTE(_xlpm.t,CHAR(10)," ")," "," "),_xlpm.c,_xlfn.UNICODE(MID(_xlpm.s,_xlfn.SEQUENCE(LEN(_xlpm.s)),1)),_xlpm.p,IFERROR(MATCH(TRUE,((_xlpm.c>=65)*(_xlpm.c<=90)+(_xlpm.c>=97)*(_xlpm.c<=122))>0,0),LEN(_xlpm.s)+1),_xlpm.k,IF(_xlpm.p>1,IF(MID(_xlpm.s,_xlpm.p-1,1)="(",_xlpm.p-1,_xlpm.p),_xlpm.p),TRIM(MID(_xlpm.s,_xlpm.k,LEN(_xlpm.s))))} -> Bonds
B8: 4 | C8: {=_xlfn.LET(_xlpm.t,'4借入金明細'!$A$1,_xlpm.s,SUBSTITUTE(SUBSTITUTE(_xlpm.t,CHAR(10)," ")," "," "),_xlpm.c,_xlfn.UNICODE(MID(_xlpm.s,_xlfn.SEQUENCE(LEN(_xlpm.s)),1)),_xlpm.p,IFERROR(MATCH(TRUE,((_xlpm.c>=65)*(_xlpm.c<=90)+(_xlpm.c>=97)*(_xlpm.c<=122))>0,0),LEN(_xlpm.s)+1),_xlpm.k,IF(_xlpm.p>1,IF(MID(_xlpm.s,_xlpm.p-1,1)="(",_xlpm.p-1,_xlpm.p),_xlpm.p),TRIM(LEFT(_xlpm.s,_xlpm.k-1)))} -> 借入金 | E8: {=_xlfn.LET(_xlpm.t,'4借入金明細'!$A$1,_xlpm.s,SUBSTITUTE(SUBSTITUTE(_xlpm.t,CHAR(10)," ")," "," "),_xlpm.c,_xlfn.UNICODE(MID(_xlpm.s,_xlfn.SEQUENCE(LEN(_xlpm.s)),1)),_xlpm.p,IFERROR(MATCH(TRUE,((_xlpm.c>=65)*(_xlpm.c<=90)+(_xlpm.c>=97)*(_xlpm.c<=122))>0,0),LEN(_xlpm.s)+1),_xlpm.k,IF(_xlpm.p>1,IF(MID(_xlpm.s,_xlpm.p-1,1)="(",_xlpm.p-1,_xlpm.p),_xlpm.p),TRIM(MID(_xlpm.s,_xlpm.k,LEN(_xlpm.s))))} -> Loans and debts
B9: 5 | C9: =LEFT('5都市ガス製造設備_LNG船'!$A$1,FIND(CHAR(10),'5都市ガス製造設備_LNG船'!$A$1)-1) -> 都市ガス製造設備・LNG船 | E9: =MID('5都市ガス製造設備_LNG船'!$A$1,FIND(CHAR(10),'5都市ガス製造設備_LNG船'!$A$1)+1,LEN('5都市ガス製造設備_LNG船'!$A$1)) -> City Gas Processing Terminals, LNG Carriers of Daigas group
B10: 6 | C10: {=_xlfn.LET(_xlpm.t,'6価格指標、為替'!$A$1,_xlpm.s,SUBSTITUTE(SUBSTITUTE(_xlpm.t,CHAR(10)," ")," "," "),_xlpm.c,_xlfn.UNICODE(MID(_xlpm.s,_xlfn.SEQUENCE(LEN(_xlpm.s)),1)),_xlpm.p,IFERROR(MATCH(TRUE,((_xlpm.c>=65)*(_xlpm.c<=90)+(_xlpm.c>=97)*(_xlpm.c<=122))>0,0),LEN(_xlpm.s)+1),_xlpm.k,IF(_xlpm.p>1,IF(MID(_xlpm.s,_xlpm.p-1,1)="(",_xlpm.p-1,_xlpm.p),_xlpm.p),TRIM(LEFT(_xlpm.s,_xlpm.k-1)))} -> （参考）価格指標、為替 | E10: {=_xlfn.LET(_xlpm.t,'6価格指標、為替'!$A$1,_xlpm.s,SUBSTITUTE(SUBSTITUTE(_xlpm.t,CHAR(10)," ")," "," "),_xlpm.c,_xlfn.UNICODE(MID(_xlpm.s,_xlfn.SEQUENCE(LEN(_xlpm.s)),1)),_xlpm.p,IFERROR(MATCH(TRUE,((_xlpm.c>=65)*(_xlpm.c<=90)+(_xlpm.c>=97)*(_xlpm.c<=122))>0,0),LEN(_xlpm.s)+1),_xlpm.k,IF(_xlpm.p>1,IF(MID(_xlpm.s,_xlpm.p-1,1)="(",_xlpm.p-1,_xlpm.p),_xlpm.p),TRIM(MID(_xlpm.s,_xlpm.k,LEN(_xlpm.s))))} -> (Reference) Price Indices, Exchange rate
B11: 7 | C11: {=_xlfn.LET(_xlpm.t,'7海外上流、中下流'!$A$1,_xlpm.s,SUBSTITUTE(SUBSTITUTE(_xlpm.t,CHAR(10)," ")," "," "),_xlpm.c,_xlfn.UNICODE(MID(_xlpm.s,_xlfn.SEQUENCE(LEN(_xlpm.s)),1)),_xlpm.p,IFERROR(MATCH(TRUE,((_xlpm.c>=65)*(_xlpm.c<=90)+(_xlpm.c>=97)*(_xlpm.c<=122))>0,0),LEN(_xlpm.s)+1),_xlpm.k,IF(_xlpm.p>1,IF(MID(_xlpm.s,_xlpm.p-1,1)="(",_xlpm.p-1,_xlpm.p),_xlpm.p),TRIM(LEFT(_xlpm.s,_xlpm.k-1)))} -> 海外上流・中下流事業 | E11: {=_xlfn.LET(_xlpm.t,'7海外上流、中下流'!$A$1,_xlpm.s,SUBSTITUTE(SUBSTITUTE(_xlpm.t,CHAR(10)," ")," "," "),_xlpm.c,_xlfn.UNICODE(MID(_xlpm.s,_xlfn.SEQUENCE(LEN(_xlpm.s)),1)),_xlpm.p,IFERROR(MATCH(TRUE,((_xlpm.c>=65)*(_xlpm.c<=90)+(_xlpm.c>=97)*(_xlpm.c<=122))>0,0),LEN(_xlpm.s)+1),_xlpm.k,IF(_xlpm.p>1,IF(MID(_xlpm.s,_xlpm.p-1,1)="(",_xlpm.p-1,_xlpm.p),_xlpm.p),TRIM(MID(_xlpm.s,_xlpm.k,LEN(_xlpm.s))))} -> International upstream business / International mid & downstream business
B12: 8 | C12: {=_xlfn.LET(_xlpm.t,'8持分電源容量'!$A$1,_xlpm.s,SUBSTITUTE(SUBSTITUTE(_xlpm.t,CHAR(10)," ")," "," "),_xlpm.c,_xlfn.UNICODE(MID(_xlpm.s,_xlfn.SEQUENCE(LEN(_xlpm.s)),1)),_xlpm.p,IFERROR(MATCH(TRUE,((_xlpm.c>=65)*(_xlpm.c<=90)+(_xlpm.c>=97)*(_xlpm.c<=122))>0,0),LEN(_xlpm.s)+1),_xlpm.k,IF(_xlpm.p>1,IF(MID(_xlpm.s,_xlpm.p-1,1)="(",_xlpm.p-1,_xlpm.p),_xlpm.p),TRIM(LEFT(_xlpm.s,_xlpm.k-1)))} -> 持分電源容量 | E12: {=_xlfn.LET(_xlpm.t,'8持分電源容量'!$A$1,_xlpm.s,SUBSTITUTE(SUBSTITUTE(_xlpm.t,CHAR(10)," ")," "," "),_xlpm.c,_xlfn.UNICODE(MID(_xlpm.s,_xlfn.SEQUENCE(LEN(_xlpm.s)),1)),_xlpm.p,IFERROR(MATCH(TRUE,((_xlpm.c>=65)*(_xlpm.c<=90)+(_xlpm.c>=97)*(_xlpm.c<=122))>0,0),LEN(_xlpm.s)+1),_xlpm.k,IF(_xlpm.p>1,IF(MID(_xlpm.s,_xlpm.p-1,1)="(",_xlpm.p-1,_xlpm.p),_xlpm.p),TRIM(MID(_xlpm.s,_xlpm.k,LEN(_xlpm.s))))} -> Generation capacity
B13: 9 | C13: {=_xlfn.LET(_xlpm.t,'9再エネ普及貢献量'!$A$1,_xlpm.s,SUBSTITUTE(SUBSTITUTE(_xlpm.t,CHAR(10)," ")," "," "),_xlpm.c,_xlfn.UNICODE(MID(_xlpm.s,_xlfn.SEQUENCE(LEN(_xlpm.s)),1)),_xlpm.p,IFERROR(MATCH(TRUE,((_xlpm.c>=65)*(_xlpm.c<=90)+(_xlpm.c>=97)*(_xlpm.c<=122))>0,0),LEN(_xlpm.s)+1),_xlpm.k,IF(_xlpm.p>1,IF(MID(_xlpm.s,_xlpm.p-1,1)="(",_xlpm.p-1,_xlpm.p),_xlpm.p),TRIM(LEFT(_xlpm.s,_xlpm.k-1)))} -> 再エネ普及貢献量 | E13: {=_xlfn.LET(_xlpm.t,'9再エネ普及貢献量'!$A$1,_xlpm.s,SUBSTITUTE(SUBSTITUTE(_xlpm.t,CHAR(10)," ")," "," "),_xlpm.c,_xlfn.UNICODE(MID(_xlpm.s,_xlfn.SEQUENCE(LEN(_xlpm.s)),1)),_xlpm.p,IFERROR(MATCH(TRUE,((_xlpm.c>=65)*(_xlpm.c<=90)+(_xlpm.c>=97)*(_xlpm.c<=122))>0,0),LEN(_xlpm.s)+1),_xlpm.k,IF(_xlpm.p>1,IF(MID(_xlpm.s,_xlpm.p-1,1)="(",_xlpm.p-1,_xlpm.p),_xlpm.p),TRIM(MID(_xlpm.s,_xlpm.k,LEN(_xlpm.s))))} -> Renewable energy development contribution of Daigas group
B14: 10 | C14: {=_xlfn.LET(_xlpm.t,'10国内発電所'!$A$1,_xlpm.s,SUBSTITUTE(SUBSTITUTE(_xlpm.t,CHAR(10)," ")," "," "),_xlpm.c,_xlfn.UNICODE(MID(_xlpm.s,_xlfn.SEQUENCE(LEN(_xlpm.s)),1)),_xlpm.p,IFERROR(MATCH(TRUE,((_xlpm.c>=65)*(_xlpm.c<=90)+(_xlpm.c>=97)*(_xlpm.c<=122))>0,0),LEN(_xlpm.s)+1),_xlpm.k,IF(_xlpm.p>1,IF(MID(_xlpm.s,_xlpm.p-1,1)="(",_xlpm.p-1,_xlpm.p),_xlpm.p),TRIM(LEFT(_xlpm.s,_xlpm.k-1)))} -> 国内発電所 | E14: {=_xlfn.LET(_xlpm.t,'10国内発電所'!$A$1,_xlpm.s,SUBSTITUTE(SUBSTITUTE(_xlpm.t,CHAR(10)," ")," "," "),_xlpm.c,_xlfn.UNICODE(MID(_xlpm.s,_xlfn.SEQUENCE(LEN(_xlpm.s)),1)),_xlpm.p,IFERROR(MATCH(TRUE,((_xlpm.c>=65)*(_xlpm.c<=90)+(_xlpm.c>=97)*(_xlpm.c<=122))>0,0),LEN(_xlpm.s)+1),_xlpm.k,IF(_xlpm.p>1,IF(MID(_xlpm.s,_xlpm.p-1,1)="(",_xlpm.p-1,_xlpm.p),_xlpm.p),TRIM(MID(_xlpm.s,_xlpm.k,LEN(_xlpm.s))))} -> Domestic power plants
B15: 11 | C15: {=_xlfn.LET(_xlpm.t,'11海外発電所'!$A$1,_xlpm.s,SUBSTITUTE(SUBSTITUTE(_xlpm.t,CHAR(10)," ")," "," "),_xlpm.c,_xlfn.UNICODE(MID(_xlpm.s,_xlfn.SEQUENCE(LEN(_xlpm.s)),1)),_xlpm.p,IFERROR(MATCH(TRUE,((_xlpm.c>=65)*(_xlpm.c<=90)+(_xlpm.c>=97)*(_xlpm.c<=122))>0,0),LEN(_xlpm.s)+1),_xlpm.k,IF(_xlpm.p>1,IF(MID(_xlpm.s,_xlpm.p-1,1)="(",_xlpm.p-1,_xlpm.p),_xlpm.p),TRIM(LEFT(_xlpm.s,_xlpm.k-1)))} -> 海外発電所 | E15: {=_xlfn.LET(_xlpm.t,'11海外発電所'!$A$1,_xlpm.s,SUBSTITUTE(SUBSTITUTE(_xlpm.t,CHAR(10)," ")," "," "),_xlpm.c,_xlfn.UNICODE(MID(_xlpm.s,_xlfn.SEQUENCE(LEN(_xlpm.s)),1)),_xlpm.p,IFERROR(MATCH(TRUE,((_xlpm.c>=65)*(_xlpm.c<=90)+(_xlpm.c>=97)*(_xlpm.c<=122))>0,0),LEN(_xlpm.s)+1),_xlpm.k,IF(_xlpm.p>1,IF(MID(_xlpm.s,_xlpm.p-1,1)="(",_xlpm.p-1,_xlpm.p),_xlpm.p),TRIM(MID(_xlpm.s,_xlpm.k,LEN(_xlpm.s))))} -> International power plants
B16: 12 | C16: {=_xlfn.LET(_xlpm.t,'12企業情報'!$A$1,_xlpm.s,SUBSTITUTE(SUBSTITUTE(_xlpm.t,CHAR(10)," ")," "," "),_xlpm.c,_xlfn.UNICODE(MID(_xlpm.s,_xlfn.SEQUENCE(LEN(_xlpm.s)),1)),_xlpm.p,IFERROR(MATCH(TRUE,((_xlpm.c>=65)*(_xlpm.c<=90)+(_xlpm.c>=97)*(_xlpm.c<=122))>0,0),LEN(_xlpm.s)+1),_xlpm.k,IF(_xlpm.p>1,IF(MID(_xlpm.s,_xlpm.p-1,1)="(",_xlpm.p-1,_xlpm.p),_xlpm.p),TRIM(LEFT(_xlpm.s,_xlpm.k-1)))} -> 企業情報 | E16: {=_xlfn.LET(_xlpm.t,'12企業情報'!$A$1,_xlpm.s,SUBSTITUTE(SUBSTITUTE(_xlpm.t,CHAR(10)," ")," "," "),_xlpm.c,_xlfn.UNICODE(MID(_xlpm.s,_xlfn.SEQUENCE(LEN(_xlpm.s)),1)),_xlpm.p,IFERROR(MATCH(TRUE,((_xlpm.c>=65)*(_xlpm.c<=90)+(_xlpm.c>=97)*(_xlpm.c<=122))>0,0),LEN(_xlpm.s)+1),_xlpm.k,IF(_xlpm.p>1,IF(MID(_xlpm.s,_xlpm.p-1,1)="(",_xlpm.p-1,_xlpm.p),_xlpm.p),TRIM(MID(_xlpm.s,_xlpm.k,LEN(_xlpm.s))))} -> Corporate Information
B17: 13 | C17: {=_xlfn.LET(_xlpm.t,'13財務データ'!$A$1,_xlpm.s,SUBSTITUTE(SUBSTITUTE(_xlpm.t,CHAR(10)," ")," "," "),_xlpm.c,_xlfn.UNICODE(MID(_xlpm.s,_xlfn.SEQUENCE(LEN(_xlpm.s)),1)),_xlpm.p,IFERROR(MATCH(TRUE,((_xlpm.c>=65)*(_xlpm.c<=90)+(_xlpm.c>=97)*(_xlpm.c<=122))>0,0),LEN(_xlpm.s)+1),_xlpm.k,IF(_xlpm.p>1,IF(MID(_xlpm.s,_xlpm.p-1,1)="(",_xlpm.p-1,_xlpm.p),_xlpm.p),TRIM(LEFT(_xlpm.s,_xlpm.k-1)))} -> 財務情報 | E17: {=_xlfn.LET(_xlpm.t,'13財務データ'!$A$1,_xlpm.s,SUBSTITUTE(SUBSTITUTE(_xlpm.t,CHAR(10)," ")," "," "),_xlpm.c,_xlfn.UNICODE(MID(_xlpm.s,_xlfn.SEQUENCE(LEN(_xlpm.s)),1)),_xlpm.p,IFERROR(MATCH(TRUE,((_xlpm.c>=65)*(_xlpm.c<=90)+(_xlpm.c>=97)*(_xlpm.c<=122))>0,0),LEN(_xlpm.s)+1),_xlpm.k,IF(_xlpm.p>1,IF(MID(_xlpm.s,_xlpm.p-1,1)="(",_xlpm.p-1,_xlpm.p),_xlpm.p),TRIM(MID(_xlpm.s,_xlpm.k,LEN(_xlpm.s))))} -> Financial data
B18: 14 | C18: {=_xlfn.LET(_xlpm.t,'14 セグメント'!$A$1,_xlpm.s,SUBSTITUTE(SUBSTITUTE(_xlpm.t,CHAR(10)," ")," "," "),_xlpm.c,_xlfn.UNICODE(MID(_xlpm.s,_xlfn.SEQUENCE(LEN(_xlpm.s)),1)),_xlpm.p,IFERROR(MATCH(TRUE,((_xlpm.c>=65)*(_xlpm.c<=90)+(_xlpm.c>=97)*(_xlpm.c<=122))>0,0),LEN(_xlpm.s)+1),_xlpm.k,IF(_xlpm.p>1,IF(MID(_xlpm.s,_xlpm.p-1,1)="(",_xlpm.p-1,_xlpm.p),_xlpm.p),TRIM(LEFT(_xlpm.s,_xlpm.k-1)))} -> セグメント別 | E18: {=_xlfn.LET(_xlpm.t,'14 セグメント'!$A$1,_xlpm.s,SUBSTITUTE(SUBSTITUTE(_xlpm.t,CHAR(10)," ")," "," "),_xlpm.c,_xlfn.UNICODE(MID(_xlpm.s,_xlfn.SEQUENCE(LEN(_xlpm.s)),1)),_xlpm.p,IFERROR(MATCH(TRUE,((_xlpm.c>=65)*(_xlpm.c<=90)+(_xlpm.c>=97)*(_xlpm.c<=122))>0,0),LEN(_xlpm.s)+1),_xlpm.k,IF(_xlpm.p>1,IF(MID(_xlpm.s,_xlpm.p-1,1)="(",_xlpm.p-1,_xlpm.p),_xlpm.p),TRIM(MID(_xlpm.s,_xlpm.k,LEN(_xlpm.s))))} -> by Segment
B19: 15 | C19: ='15ESG'!$A$1 -> ESG | E19: ='15ESG'!$A$1 -> ESG
B20: 16 | C20: {=_xlfn.LET(_xlpm.t,'16単位換算'!$A$1,_xlpm.s,SUBSTITUTE(SUBSTITUTE(_xlpm.t,CHAR(10)," ")," "," "),_xlpm.c,_xlfn.UNICODE(MID(_xlpm.s,_xlfn.SEQUENCE(LEN(_xlpm.s)),1)),_xlpm.p,IFERROR(MATCH(TRUE,((_xlpm.c>=65)*(_xlpm.c<=90)+(_xlpm.c>=97)*(_xlpm.c<=122))>0,0),LEN(_xlpm.s)+1),_xlpm.k,IF(_xlpm.p>1,IF(MID(_xlpm.s,_xlpm.p-1,1)="(",_xlpm.p-1,_xlpm.p),_xlpm.p),TRIM(LEFT(_xlpm.s,_xlpm.k-1)))} -> (参考) 単位換算 | E20: {=_xlfn.LET(_xlpm.t,'16単位換算'!$A$1,_xlpm.s,SUBSTITUTE(SUBSTITUTE(_xlpm.t,CHAR(10)," ")," "," "),_xlpm.c,_xlfn.UNICODE(MID(_xlpm.s,_xlfn.SEQUENCE(LEN(_xlpm.s)),1)),_xlpm.p,IFERROR(MATCH(TRUE,((_xlpm.c>=65)*(_xlpm.c<=90)+(_xlpm.c>=97)*(_xlpm.c<=122))>0,0),LEN(_xlpm.s)+1),_xlpm.k,IF(_xlpm.p>1,IF(MID(_xlpm.s,_xlpm.p-1,1)="(",_xlpm.p-1,_xlpm.p),_xlpm.p),TRIM(MID(_xlpm.s,_xlpm.k,LEN(_xlpm.s))))} -> (Reference) Unit Conversion

Sheet 1株式情報
A1: 株式情報 Stock Information | G1: 2026年3月末時点 As of March 31, 2026
A3: ■ 株式の概要 Share Information
A4: 発行可能株式総数：株 | E4: 700000000
A5: Common Stock authorized : shares
A6: 発行済株式数*：株 | E6: 397881800
A7: Common Stock issued* : shares
A8: 上場証券取引所 | E8: 東京証券取引所 プライム市場 Tokyo Stock Exchange, Prime Market
A9: Listing of Shares
A10: 議決権を有する単元株主数 | E10: 73347
A11: Number of shareholders who own voting rights
A12: * 自己株式13,979,916株を含んでおります。 / This figure includes 13,979,916 shares of treasury stock.
A14: ■ 大株主の状況 Major Shareholders | G14: 2026年3月末時点 As of March 31, 2026
A15: 氏名又は名称 Name of Shareholder | E15: 所有株式数（千株） Number of Shares held (thousands) | G15: 発行済株式総数に対する割合（%） Percentage of voting rights (%)
A16: 日本マスタートラスト信託銀行株式会社（信託口） | E16: 56774 | G16: 14.79
A17: The Master Trust Bank of Japan, Ltd. (Trust a/c)
A18: 株式会社日本カストディ銀行（信託口） | E18: 18992 | G18: 4.95
A19: Custody Bank of Japan, Ltd. (Trust a/c)
A20: 日本生命保険相互会社（常任代理人 日本マスタートラスト信託銀行株式会社） | E20: 13469 | G20: 3.51
A21: Nippon Life Insurance Company (Standing proxy: The Master Trust Bank of Japan, Ltd.)
A22: 株式会社りそな銀行 | E22: 10555 | G22: 2.75
A23: Resona Bank, Ltd.
A24: STATE STREET BANK AND TRUST COMPANY 505001（常任代理人 株式会社みずほ銀行） | E24: 8777 | G24: 2.29
A25: STATE STREET BANK AND TRUST COMPANY 505001 (Standing proxy: Mizuho Bank, Ltd.)
A26: 株式会社三菱ＵＦＪ銀行 | E26: 8391 | G26: 2.19
A27: MUFG Bank, Ltd.
A28: 明治安田生命保険相互会社（常任代理人 株式会社日本カストディ銀行） | E28: 5838 | G28: 1.52
A29: Meiji Yasuda Life Insurance Company (Standing proxy: Custody Bank of Japan, Ltd.)
A30: JP MORGAN CHASE BANK 385781（常任代理人 株式会社みずほ銀行） | E30: 5191 | G30: 1.35
A31: JP MORGAN CHASE BANK 385781 (Standing proxy: Mizuho Bank, Ltd.)
A32: 燈友会 | E32: 4686 | G32: 1.22
A33: Toyukai
A34: GOVERNMENT OF NORWAY（常任代理人 シティバンク、エヌ・エイ） | E34: 4660 | G34: 1.21
A35: GOVERNMENT OF NORWAY (Standing proxy: Citibank, N.A.)
A36: 計 Total | E36: 137337 | G36: 35.77

Sheet 2格付
A1: 格付 Rating | J1: 2026年6月末時点 As of June 30, 2026
A3: ■ 格付推移 Rating history
A4: 区分 Category | B4: 格付機関 Rating agency | C4: 17.6 June, 2017 | D4: 18.6 June, 2018 | E4: 19.6 June, 2019 | F4: 20.6 June, 2020 | G4: 21.6 June, 2021 | H4: 22.6 June, 2022 | I4: 23.6 June, 2023 | J4: 24.6 June, 2024 | K4: 25.6 June, 2025 | L4: 26.6 June, 2026
A5: 長期債 Long-term bond | B5: R&I（格付投資情報センター） Rating and Investment Information, Inc. | C5: AA+ | D5: AA+ | E5: AA+ | F5: AA+ | G5: AA+ | H5: AA+ | I5: AA+ | J5: AA+ | K5: AA+ | L5: AA+
B6: ムーディーズ Moody's Investors Service | C6: Aa3 | D6: Aa3 | E6: Aa3 | F6: A1 | G6: A1 | H6: A1 | I6: A1 | J6: A1 | K6: A1 | L6: A1
B7: S&Pグローバル・レーティング S&P Global Ratings | C7: AA- | D7: AA- | E7: AA- | F7: AA- | G7: AA- | H7: AA- | I7: AA- | J7: AA- | K7: A+ | L7: A+
A8: 国内CP Domestic Commercial paper | B8: R&I（格付投資情報センター） Rating and Investment Information, Inc. | C8: a-1＋ | D8: a-1＋ | E8: a-1＋ | F8: a-1＋ | G8: a-1＋ | H8: a-1＋ | I8: a-1＋ | J8: a-1＋ | K8: a-1＋ | L8: a-1＋
B9: S&Pグローバル・レーティング S&P Global Ratings | C9: A-1+ | D9: A-1+ | E9: A-1+ | F9: A-1+ | G9: A-1+ | H9: A-1+ | I9: A-1+ | J9: A-1+ | K9: A-1 | L9: A-1

Sheet 3社債
A1: 社債 Bonds | F1: 2026年3月末時点 As of March 31, 2026
A3: ■ 社債明細 Bonds
A4: 会社名 Company | B4: 銘柄 Descriptions | C4: 回号 No. | D4: 発行日 Date of issue | E4: 金額（百万円） Amount (million yen) | F4: 利率（%） Interest rate (%) | G4: 償還日 Date of maturity
A5: 大阪ガス株式会社 Osaka Gas Co, Ltd. | B5: 国内無担保社債 Domestic unsecured corporate bonds | C5: #21 | D5: 2006.6.23 | E5: 9999 | F5: 2.33 | G5: 2026.6.23
C6: #32 | D6: 2014.3.24 | E6: 15000 | F6: 1.606 | G6: 2034.3.24
C7: #33 | D7: 2014.10.24 | E7: 20000 | F7: 1.402 | G7: 2034.10.24
C8: #34 | D8: 2015.3.5 | E8: 10000 | F8: 1.685 | G8: 2045.3.3
C9: #35 | D9: 2016.12.9 | E9: 10000 | F9: 0.986 | G9: 2056.12.8
C10: #36 | D10: 2019.6.6 | E10: 20000 | F10: 0.642 | G10: 2049.6.4
C11: #37 | D11: 2019.6.6 | E11: 20000 | F11: 0.818 | G11: 2059.6.6
C12: #38 | D12: 2019.9.5 | E12: 20000 | F12: 0.4 | G12: 2049.9.3
C13: #39 | D13: 2019.9.5 | E13: 5000 | F13: 0.545 | G13: 2058.9.5
C14: #40 | D14: 2019.9.5 | E14: 10000 | F14: 0.7 | G14: 2069.9.5
C15: #41 | D15: 2021.6.3 | E15: 20000 | F15: 0.22 | G15: 2031.6.3
C16: #42 | D16: 2021.6.3 | E16: 10000 | F16: 0.576 | G16: 2041.6.3
C17: #43 | D17: 2021.6.3 | E17: 10000 | F17: 0.851 | G17: 2051.6.2
... C29: #55 | D29: 2024.5.30 | E29: 6000 | F29: 2.371 | G29: 2054.5.29
B30: 第１回利払繰延条項・期限前償還条項付無担保社債（劣後特約付） #1 Unsecured corporate bonds with interest deferrable clause and early redeemable option (subordinated corporate bonds) | C30: #1 | D30: 2019.12.12 | E30: 50000 | F30: 0.44 | G30: 2079.12.12
B31: 第２回利払繰延条項・期限前償還条項付無担保社債（劣後特約付） #2 Unsecured corporate bonds with interest deferrable clause and early redeemable option (subordinated corporate bonds) | C31: #2 | D31: 2019.12.12 | E31: 50000 | F31: 0.6 | G31: 2079.12.12
B32: 第３回利払繰延条項・期限前償還条項付無担保社債（劣後特約付） #3 Unsecured corporate bonds with interest deferrable clause and early redeemable option (subordinated corporate bonds) | C32: #3 | D32: 2020.9.10 | E32: 27000 | F32: 0.49 | G32: 2080.9.10
B33: 第４回利払繰延条項・期限前償還条項付無担保社債（劣後特約付） #4 Unsecured corporate bonds with interest deferrable clause and early redeemable option (subordinated corporate bonds) | C33: #4 | D33: 2020.9.10 | E33: 48000 | F33: 0.63 | G33: 2080.9.10
B34: 合計 Total | E34: 500999

Sheet 4借入金明細
A1: 借入金 Loans and debts | G1: 2026年3月末時点 As of March 31, 2026
A3: ■ 借入金明細 Loans and debts
A4: 区分 Category | E4: 金額（百万円） Amount (million yen) | G4: 平均利率（%） Average interest rate (%)
A5: 短期借入金 | E5: 22163 | G5: 0.017
A6: Short-term debt
A7: 1年以内に返済予定の長期借入金 | E7: 44006 | G7: 0.033
A8: Long-term debt due within one year
A9: 1年以内に返済予定のリース債務 | E9: 3374 | G9: -
A10: Lease obligation due within one year
A11: 長期借入金（1年以内に返済予定のものを除く） | E11: 303203 | G11: 0.017
A12: Long-term debt due after one year
A13: リース債務（1年以内に返済予定のものを除く） | E13: 25758 | G13: -
A14: Lease obligation due after one year
A15: 合計 Total | E15: 398506 | G15: -
A18: ■ 2031年3月期までの償還・返済予定額 Annual maturities until FY2031 | G18: （百万円）(million yen)
A19: 年度 Fiscal year | E19: 社債 Bonds | G19: 長期借入金 Long-term loans
A20: 2027年3月期 in FY27 | E20: 10014 | G20: 44006
A21: 2028年3月期 in FY28 | E21: 16 | G21: 55914
A22: 2029年3月期 in FY29 | E22: 10000 | G22: 56330
A23: 2030年3月期 in FY30 | E23: - | G23: 37577
A24: 2031年3月期 in FY31 | E24: - | G24: 11046

Sheet 5都市ガス製造設備_LNG船
A1: 都市ガス製造設備・LNG船 City Gas Processing Terminals, LNG Carriers of Daigas group | G1: 2026年3月末時点 As of March 31, 2026
A3: ■ 都市ガス製造所別設備数 Number of Facilities in City Gas Processing Terminals
E4: 泉北製造所 Senboku terminal | G4: 姫路製造所 Himeji terminal
A5: LNG気化能力（千m³／時） | E5: 1870 | G5: 858
A6: Main materials
A7: 主要設備 Main facilities | C7: LNG気化設備（基） | E7: 16 | G7: 5
C8: LNG vaporization facility (units)
C9: LNGタンク（基） | E9: 17 | G9: 8
C10: LNG tanks (units)
A11: LNGタンク総容量（kl） | E11: 1665000 | G11: 740000
A12: Total LNG tank capacity (kl)
A13: 主原料 | E13: LNG | G13: LNG
A14: Main materials
A16: ■ DaigasグループのLNG船一覧 LNG Carriers of Daigas group
A17: 船名 Name | E17: 就航年 Delivery | G17: 容量 Capacity
A18: LNG DREAM | E18: 2006 | G18: 145,000 m³
A19: LNG BARKA | E19: 2008 | G19: 153,000 m³
A20: LNG JUPITER | E20: 2009 | G20: 153,000 m³
A21: LNG VENUS | E21: 2014 | G21: 153,000 m³
A22: LNG MARS | E22: 2016 | G22: 153,000 m³
A23: LNG SATURN | E23: 2016 | G23: 153,000 m³
A24: LNG JUNO | E24: 2018 | G24: 180,000 m³
A25: GRACE FREESIA | E25: 2022 | G25: 174,000 m³
A26: CELSIUS GIZA | E26: 2023 | G26: 180,000 m³
A27: ATHOS LNG | E27: 2024 | G27: 174,000 m³

Sheet 6価格指標、為替
A1: （参考）価格指標、為替 (Reference) Price Indices, Exchange rate | J1: 2026年6月末時点 As of June 30, 2026
A3: ■ 原油・LNG価格指標 Japan crude cocktail price (JCC), Japan LNG cocktail price (JLC), Brent
A19: ■ 為替 Exchange rate | G19: ■ 天然ガス価格 Henry Hub (HH), TTF

Sheet 7海外上流、中下流
A1: 海外上流・中下流事業 International upstream business / International mid & downstream business | J1: 2026年3月末時点 As of March 31, 2025
A3: ■ 海外上流事業 International upstream business
A4: 案件名 Project name | D4: 場所 Location | F4: 主な事業 Main business | I4: 出資比率 Shareholding Ratio | K4: 参画時期（年） Year of participation
A5: サンライズ | D5: オーストラリア・東ティモール | F5: LNG | I5: 0.1 | K5: 2000
A6: Sunrise LNG Project | D6: Australia, East Timor
A7: ゴーゴン | D7: オーストラリア | F7: LNG | I7: 0.0125 | K7: 2009
A8: Gorgon LNG Project | D8: Australia
A9: イクシス | D9: オーストラリア | F9: LNG・コンデンセート | I9: 0.012 | K9: 2012
A10: Ichthys LNG Project | D10: Australia | F10: LNG, Condensate
A11: サビン・シェールガスプロジェクト | D11: 米国 | F11: 天然ガス・コンデンセート・天然ガス液 | I11: 1 | K11: 2018
A12: Sabine Oil & Gas Corporation | D12: USA | F12: Natural gas, Condensate, Natural Gas Liquids
A14: ■ 海外中下流事業（発電除く） International mid & downstream business
A15: 案件名 Project name | D15: 場所 Location | F15: 主な事業 Main business | I15: 出資比率 Shareholding Ratio | K15: 参画時期（年） Year of participation
A16: フリーポートLNG基地（FLNG社） | D16: 米国 | F16: 液化基地 | I16: 0.1081 | K16: 2008
A17: Freeport LNG Project | D17: USA | F17: LNG terminal
A18: EII | D18: オーストラリア | F18: インフラ事業（ポートフォリオ） | I18: 0.302 | K18: 2008
D19: Australia | F19: Infrastructure business (Portfolio)
A20: サグントLNG基地 | D20: スペイン | F20: 受入基地 | I20: 0.2 | K20: 2010
A21: Sagunto LNG Terminal | D21: Spain | F21: LNG receiving terminal
A22: City-OG Gas Energy Services | D22: シンガポール | F22: ガス販売事業 | I22: 0.49 | K22: 2013 | AY22: ←2025から変更？（16.7％だった）
D23: Singapore | F23: Sale of gas business | AY23: ←2025から変更？（63％で開示していた）
A24: フリーポートLNG基地（第一系列） | D24: 米国 | F24: 液化事業 | I24: 0.25 | K24: 2014
A25: Freeport LNG Project Train 1 | D25: USA | F25: Liquefication business
A26: NS-OG Energy Solutions (Thailand) | D26: タイ | F26: コージェネレーション事業 | I26: 0.3 | K26: 2014
D27: Thailand | F27: Cogeneration business
A28: PT OSAKA GAS INDONESIA | D28: インドネシア | F28: ガス販売・エネルギーサービス関連事業 | I28: 1 | K28: 2018
D29: Indonesia | F29: Sale of gas, Energy services related business
A30: Sojitz Osaka Gas Energy | D30: ベトナム | F30: 天然ガス供給事業 | I30: 0.49 | K30: 2019
D31: Vietnam | F31: Natural gas supply business
A32: AGP International Holdings Pte. Ltd. | D32: シンガポール | F32: 中・小型LNG基地事業、都市ガス事業 | I32: - | K32: 2019
D33: Singapore | F33: Medium- and small-scale LNG terminal business, city gas business
A34: AG&P CGD HoldCo SPV3 (Singapore) Pte. Ltd. | D34: シンガポール | F34: インド都市ガス事業 | I34: - | K34: 2021
D35: Singapore | F35: City Gas Business in India
A36: Australian Integrated Carbon Pty Ltd | D36: オーストラリア | F36: 豪州カーボンクレジット創出・販売事業 | I36: 0.12 | K36: 2022
D37: Australia | F37: Carbon credit development and sales business in Australia
A38: DAIGAS SJ CGD PTE. LTD. | D38: シンガポール | F38: インド都市ガス事業 | I38: - | K38: 2023
D39: Singapore | F39: City Gas Business in India
A40: Everfuel | D40: デンマーク | F40: グリーン水素事業 | I40: - | K40: 2024
D41: Denmark | F41: Green Hydrogen Business

Sheet 8持分電源容量
A1: 持分電源容量 Generation capacity | J1: 2026年3月時点 As of March 2026
A3: ■ Daigasグループ 持分電源容量 Generation capacity of Daigas group
A4: 地域 Region | C4: 区分 Category | G4: 内訳 Breakdown | J4: 持分電源容量（MW）*¹ Generation capacity (MW)*¹
A5: 国内 | C5: 火力等 | G5: 国内 火力等*² | J5: 3271
A6: Japan | C6: Thermal power, etc. | G6: Domestic thermal power, etc.*²
C7: 再生可能エネルギー | G7: 国内 再生可能エネルギー | J7: 1476
C8: Renewable energy | G8: Domestic renewable energy
G9: 国内 計 | J9: 4747
G10: Domestic total
A11: 海外 | C11: 火力 | G11: 海外 火力 | J11: 1377
A12: International | C12: Thermal power | G12: International thermal power
C13: 再生可能エネルギー | G13: 海外 再生可能エネルギー | J13: 305
C14: Renewable energy | G14: International renewable energy
G15: 海外 計 | J15: 1682
G16: International total
A17: 国内外 | C17: 火力 | G17: 国内外 火力 | J17: 4648
A18: Domestic and International | C18: Thermal power | G18: Domestic and international thermal power
C19: 再生可能エネルギー | G19: 国内外 再生可能エネルギー | J19: 1781
C20: Renewable energy | G20: Domestic and international renewable energy
G21: 合計 | J21: 6429
G22: Total
A23: *1 運転中のみ Including projects that have been decided and have not yet started construction
A24: *2 冷熱発電を含む Including Cryogenic Power Generation

Sheet 9再エネ普及貢献量
A1: 再エネ普及貢献量 Renewable energy development contribution of Daigas group | K1: 2026年3月時点 As of March 2026
A3: ■ Daigasグループ 再生可能エネルギー普及貢献量 Renewable energy development contribution of Daigas group
A4: 区分 Category | C4: 地域 Region | G4: 電源種別・内訳 Source / Breakdown | J4: 再エネ普及貢献量（MW）*¹ Renewable energy development contribution of Daigas group*¹
A5: 保有 | C5: 国内 | G5: 太陽光 | J5: 780
A6: Ownership | C6: Japan | G6: Solar power
G7: バイオマス | J7: 391
G8: Biomass
G9: 風力 | J9: 198
G10: Wind power
G11: 国内 計 | J11: 1369
G12: Domestic total
C13: 海外 | G13: 太陽光 | J13: 296
C14: International | G14: Solar power
G15: 風力 | J15: 69
G16: Wind power
G17: 海外 計 | J17: 365
G18: International total
G19: 保有 国内外 計 | J19: 1734
G20: Ownership total
A21: 開発*² | C21: 国内 | G21: 国内 | J21: 353
A22: Development*² | C22: Japan | G22: Japan
C23: 海外 | G23: 海外 | J23: 84
C24: International | G24: International
G25: 開発 計 | J25: 437
G26: Development total
A27: 調達*³ | C27: 国内 | G27: 国内 | J27: 1592
A28: Procurement*³ | C28: Japan | G28: Japan
G29: 調達 計 | J29: 1592
G30: Procurement total
G31: 合計 | J31: 3763
G32: Total
A33: *1 建設中・意思決定済みの案件及びFIT制度の適用電源等を含む Including projects under construction or already decided, as well as power sources eligible for the FIT scheme, etc.
A34: *2 開発したが保有していない案件等 Including projects developed but not owned.
A35: *3 電源を保有せず、他社から調達している案件 Projects where power is procured from third parties without owning the generation asset

Sheet 10国内発電所
A1: 国内発電所 Domestic power plants | H1: 2026年6月30日現在 As of June 30, 2026
A3: ■Daigasグループの発電施設 Power plants of Daigas group
C4: 案件名 Project name | D4: 所在地 Location | E4: 当社グループ出資割合 Daigas Group ownership interest | F4: 発電設備容量 (MW)*¹ Generation capacity (MW)*¹ | G4: 燃料・発電方式 Fuel / generation method | H4: 事業開始 Start of operation
A5: 運転中 Operating | C5: 火力発電所等
C6: Thermal power plants, etc.
C7: 泉北製造所第1工場 | D7: 大阪府 | E7: 1 | F7: 18 | G7: 天然ガス・ＧＴＣＣ | H7: 37438
C8: Senboku LNG Terminal I | D8: Osaka | G8: Natural gas, GTCC | H8: July, 2002
C9: 姫路製造所 | D9: 兵庫県 | E9: 1 | F9: 56 | G9: 天然ガス・ＧＴＣＣ等 | H9: 38078
C10: Himeji LNG Terminal | D10: Hyogo | G10: Natural gas, GTCC, etc. | H10: April, 2004
C11: 姫路天然ガス発電所1,2号 | D11: 兵庫県 | E11: 1 | F11: 1245 | G11: 天然ガス・ＧＴＣＣ | H11: 2026年1-5月
C12: Himeji Natural Gas Power Plants No. 1 and 2 | D12: Hyogo | G12: Natural gas, GTCC | H12: January-May, 2026
C13: 泉北天然ガス発電所 | D13: 大阪府 | E13: 1 | F13: 1109 | G13: 天然ガス・ＧＴＣＣ | H13: 2009年4-11月
C14: Senboku Natural Gas Power Plant | D14: Osaka | G14: Natural gas, GTCC | H14: April-November 2009
C15: 福島天然ガス発電所 | D15: 福島県 | E15: 0.2 | F15: 1180 | G15: 天然ガス・ＧＴＣＣ | H15: 2020年4-8月
C16: Fukushima Natural Gas Power Plant | D16: Fukushima | G16: Natural gas, GTCC | H16: April-August 2020
C17: 酉島エネルギーセンター | D17: 大阪府 | E17: 1 | F17: 141 | G17: 天然ガス・ＧＴＣＣ | H17: 37347
C18: Torishima Energy Center | D18: Osaka | G18: Natural gas, GTCC | H18: April, 2002
C19: 宇治エネルギーセンター | D19: 京都府 | E19: 1 | F19: 67 | G19: 天然ガス・ＧＴＣＣ | H19: 38261
C20: Uji Energy Center | D20: Kyoto | G20: Natural gas, GTCC | H20: October, 2004
C21: 摂津エネルギーセンター | D21: 大阪府 | E21: 1 | F21: 18 | G21: 天然ガス・ガスエンジン | H21: 38808
C22: Settsu Energy Center | D22: Osaka | G22: Natural gas, Gas Engine | H22: April, 2006
C23: 千里エネルギーセンター | D23: 大阪府 | E23: 1 | F23: 7 | G23: 天然ガス・ガスタービン | H23: 39448
C24: Senri Energy Center | D24: Osaka | G24: Natural gas, Gas Turbine | H24: January, 2008
C25: 船町発電所 | D25: 大阪府 | E25: 0.95 | F25: 149 | G25: 天然ガス・ＧＴＣＣ | H25: 36251
C26: Funamachi Power Plant | D26: Oaska | G26: Natural gas, GTCC | H26: April, 1999
C27: 名古屋発電所（バイオマス混焼分除く） | D27: 愛知県 | E27: 1 | F27: 142 | G27: 石炭・スチームタービン | H27: 36617
C28: Nagoya Power Plant (excluding biomass co-firing) | D28: Aichi | G28: Coal, Steam turbine | H28: April, 2000
C29: 名古屋第2発電所（バイオマス混焼分除く） | D29: 愛知県 | E29: 1 | F29: 77 | G29: 石炭・スチームタービン | H29: 42979
C30: Nagoya II Power Plant (excluding biomass co-firing) | D30: Aichi | G30: Coal, Steam turbine | H30: September, 2017
C31: 姫路製造所 冷熱発電 | D31: 兵庫県 | E31: 1 | F31: 7 | G31: 冷熱発電 | H31: -
C32: Himeji LNG Terminal Cryogenic Power Plant | D32: Hyogo | G32: Cryogenic power
C33: 火力等 小計 | F33: 4216
C34: Thermal, etc. subtotal
A35: 運転中 Operating | C35: 再生可能エネルギー発電所
C36: Renewable energy power plants
C37: 葉山風力発電所 | D37: 高知県 | E37: 1 | F37: 20 | G37: 風力 | H37: 38777
C38: Hayama Wind Farm Power Plant | D38: Kochi | G38: Wind power | H38: March, 2006
C39: 広川明神山風力発電所 | D39: 和歌山県 | E39: 1 | F39: 16 | G39: 風力 | H39: 39753
C40: Hirogawa Myojin-yama Wind Power Plant | D40: Wakayama | G40: Wind power | H40: November, 2008
C41: 由良風力発電所 | D41: 和歌山県 | E41: 1 | F41: 10 | G41: 風力 | H41: 40787
...

Sheet 11海外発電所
A1: 海外発電所 International power plants | H1: 2026年6月末時点 As of the end of June 2026
A3: ■Daigasグループの発電施設 ■Power plants of Daigas group
C4: 発電所名 Name | D4: 場所 Location | E4: 発電設備容量 (MW)*2 Capacity (MW)*2 | F4: 出資比率 Shareholding Ratio | G4: 燃料/発電方式 Source | H4: 運転開始時期 Start of operation
A5: 運転中 Operating | C5: 火力発電所
C6: Thermal Power Plants
C7: シュワイハットS2発電造水事業 | D7: UAE アブダビ | E7: 1510 | F7: 0.1 | G7: 天然ガス・GTCC、造水 | H7: 40817
C8: Shuweihat S2 IWPP | D8: UAE Abu Dhabi | G8: Natural gas, GTCC, water production | H8: October, 2011
C9: トワンティック | D9: 米国 コネチカット州 | E9: 785 | F9: 0.495 | G9: 天然ガス・GTCC | H9: 2018年12月 *3
C10: Towantic | D10: Connecticut, USA | G10: Natural gas, GTCC | H10: December, 2018 *3
C11: フェアビュー | D11: 米国 ペンシルベニア州 | E11: 1050 | F11: 0.5 | G11: 天然ガス・GTCC | H11: 43800
C12: Fairview | D12: Pennsylvania, USA | G12: Natural gas, GTCC | H12: December, 2019
C13: スリーリバーズ | D13: 米国 イリノイ州 | E13: 1250 | F13: 0.25 | G13: 天然ガス・GTCC | H13: 45108
C14: Three Rivers | D14: Illinois, USA | G14: Natural gas, GTCC | H14: July, 2023
C15: 火力 小計 | E15: =SUM(E7,E9,E11,E13) -> 4595
C16: Subtotal capacity / Termal
C17: 持分電源容量（火力）小計 | E17: =SUM(ROUND(E7*F7,0),ROUND(E9*F9,0),ROUND(E11*F11,0),ROUND(E13*F13,1)) -> 1377.5
C18: Subtotal capacity of Daigas Group/ Termal
C19: 再生可能エネルギー発電所
C20: Renewable Energy Power Plants
C21: ハレット４ | D21: 豪 サウスオーストラリア州 | E21: 132 | F21: 0.399 | G21: 風力 | H21: 40695
C22: Hallett 4 Wind Farm Project | D22: Australia, South Australia | G22: Wind power | H22: June, 2011
C23: ブライターフューチャー | D23: 米国 ノースカロライナ州 | E23: 15.7 | F23: 0.5 | G23: 太陽光 | H23: 44562
C24: Brighter Future Solar project | D24: North Carolina, USA | G24: Solar power | H24: January, 2022
C25: SREOG ME Solar 各発電所*4 | D25: 米国 メーン州 | E25: 79.9 | F25: - | G25: 太陽光 | H25: 44682
C26: SREOG ME Solar, Solar Power Plants*4 | D26: Maine, USA | G26: Solar power | H26: May, 2022
C27: SREOG IL Solar 各発電所*4 | D27: 米国 イリノイ州 | E27: 38.3 | F27: - | G27: 太陽光 | H27: 45078
C28: SREOG IL Solar, Solar Power Plants*4 | D28: Illinois, USA | G28: Solar power | H28: June, 2023
C29: ソルエナジー 各発電所 | D29: ベトナム | E29: 14.6 | F29: - | G29: 太陽光 | H29: 45200
C30: SOL Energy | D30: Vietnam | G30: Solar power | H30: October, 2023
C31: SREOG VA Solar 各発電所*4 | D31: 米国 バージニア州 | E31: 38.2 | F31: - | G31: 太陽光 | H31: 45658
C32: SREOG VA Solar, Solar Power Plants*4 | D32: Virginia, USA | G32: Solar power | H32: January, 2025
C33: Clean Max Osaka Gas Renewable Energy各発電所 | D33: インド | E33: 208.4 | F33: - | G33: 太陽光 | H33: 2025年3月*5
C34: Clean Max Osaka Gas Renewable Energy, Solar Power Plants | D34: India | G34: Solar power | H34: March, 2025*5
C35: Clean Max Osaka Gas Renewable Energy各発電所 | D35: インド | E35: 66.3 | F35: - | G35: 風力 | H35: 2025年3月*5
C36: Clean Max Osaka Gas Renewable Energy, Wind Power Plants | D36: India | G36: Wind power | H36: March, 2025*5
C37: 持分電源容量 (再生可能エネルギー) 小計 | E37: 292 | F37: - | H37: -
C38: Subtotal capacity of Daigas Group/Renewable Energy
C39: 持分電源容量 (運転中) 合計 | E39: =E17+E37 -> 1669.5
C40: Subtotal capacity of Daigas Group/Operating
A41: 建設中等 *1 Under construction*1 | C41: 再生可能エネルギー発電所
...

Sheet 12企業情報
A1: 企業情報 Corporate Information
A2: 従業員、子会社等 Employees, subsidiaries, etc. | C2: 16.3 | D2: 17.3 | E2: 18.3 | F2: 19.3 | G2: 20.3 | H2: 21.3 | I2: 22.3 | J2: 23.3 | K2: 24.3 | L2: 25.3 | M2: 26.3
A3: 従業員数 Number of employees | B3: 人 person | C3: 20844 | D3: 20762 | E3: 19997 | F3: 20224 | G3: 20543 | H3: 20941 | I3: 20961 | J3: 21017 | K3: 21159 | L3: 21404 | M3: 21835
A4: 連結子会社数 Number of consolidated subsidiaries | B4: 社 society | C4: 149 | D4: 150 | E4: 138 | F4: 150 | G4: 156 | H4: 154 | I4: 150 | J4: 154 | K4: 159 | L4: 163 | M4: 154
A5: 持分法適用関連会社数 Number of equity-method affiliates | B5: 社 society | C5: 16 | D5: 18 | E5: 19 | F5: 23 | G5: 23 | H5: 27 | I5: 30 | J5: 32 | K5: 42 | L5: 47 | M5: 50
A6: 1. 各3月末時点 1. As of the end of March
A8: 株式情報 / Stock Information | C8: 16.3 | D8: 17.3 | E8: 18.3 | F8: 19.3 | G8: 20.3 | H8: 21.3 | I8: 22.3 | J8: 23.3 | K8: 24.3 | L8: 25.3 | M8: 26.3
A9: ■所有者別状況 / ■ Status by Owner
A10: 政府及び地方公共団体 Government and Local Governments | B10: % | C10: 0 | D10: 0 | E10: 0 | F10: 0 | G10: 0 | H10: 0 | I10: 0 | J10: 0 | K10: 0 | L10: 0 | M10: 0
A11: 金融機関 Financial Institutions | B11: % | C11: 38.37 | D11: 37.87 | E11: 39.67 | F11: 40.73 | G11: 43.42 | H11: 40.97 | I11: 40.79 | J11: 39.6 | K11: 39.07 | L11: 39.34 | M11: 35.14
A12: 金融商品取引業者 Financial Instruments Business Operator | B12: % | C12: 1.29 | D12: 1.87 | E12: 1.73 | F12: 1.92 | G12: 1.66 | H12: 2.5 | I12: 2.6 | J12: 2.5 | K12: 2.91 | L12: 3.11 | M12: 2.91
A13: その他の法人 Other Corporations | B13: % | C13: 7.61 | D13: 7.59 | E13: 7.36 | F13: 7.18 | G13: 7.16 | H13: 6.76 | I13: 6.58 | J13: 6.38 | K13: 6.38 | L13: 5.99 | M13: 5.96
A14: 外国法人等 Foreign corporations, etc. | B14: % | C14: 26.65 | D14: 27.39 | E14: 26.64 | F14: 26.64 | G14: 24.26 | H14: 27.06 | I14: 27.63 | J14: 29.86 | K14: 30.72 | L14: 29.29 | M14: 32.55
A15: 個人その他 Individuals and others | B15: % | C15: 26.08 | D15: 25.28 | E15: 24.6 | F15: 23.54 | G15: 23.51 | H15: 22.72 | I15: 22.39 | J15: 21.66 | K15: 20.92 | L15: 22.27 | M15: 23.43
A16: 計 Total | B16: % | C16: 100 | D16: 100 | E16: 100 | F16: 100 | G16: 100 | H16: 100 | I16: 100 | J16: 100 | K16: 100 | L16: 100 | M16: 100
A17: ■配当額の推移 ■ Trends in Dividend Amounts
A18: 一株当たり年間配当金 Annual dividend per share | B18: 円 yen | C18: 50 | D18: 50 | E18: 50 | F18: 50 | G18: 50 | H18: 52.5 | I18: 57.5 | J18: 60 | K18: 82.5 | L18: 95 | M18: 120
A19: 年間配当金総額 Total Annual Dividends | B19: 百万円 million yen | C19: 20804 | D19: 20797 | E19: 20793 | F19: 20791 | G19: 20789 | H19: 21827 | I19: 23903 | J19: 24940 | K19: 33958 | L19: 38008 | M19: 46455
A20: ■自己株式の取得 ■ Acquisition of Treasury Stock
A21: 取得総額 Total Acquisition Amount | B21: 百万円 million yen | C21: 0 | D21: 0 | E21: 0 | F21: 0 | G21: 0 | H21: 0 | I21: 0 | J21: 0 | K21: 19999 | L21: 39999 | M21: 63166
A22: 取得株式数 Number of shares acquired | B22: 千株 thousand plants | C22: 0 | D22: 0 | E22: 0 | F22: 0 | G22: 0 | H22: 0 | I22: 0 | J22: 0 | K22: 6767.9 | L22: 12030.3 | M22: 13609
A23: 1. ■自己株式の取得 - 自己株式の取得は、発表年度による記載。24.3：2023年10月30日～2024年2月29日 25.3：2024年5月9日～2025年9月12日、2024年11月1日～2025年3月24日 26.3：2025年5月9日～2026年3月31日
A24: 1. ■ Acquisition of Treasury Stock - Treasury stock acquisitions are indicated according to the year of announcement.
A25: 24.3: October 30, 2023 ~ February 29, 2024 25.3: May 9, 2024 ~ September 12, 2025, November 1, 2024 ~ March 24, 2025 26.3: May 9, 2025 ~ March 31, 2026
A26: 2. 各3月末時点 / 2. As of the end of March
A27: 3. 17.3期以前は、2017年10月の株式併合影響（5→1株）を考慮して算定 / 3. For periods prior to 17.3, calculations take into account the impact of the stock consolidation in October 2017 (5→1 share).

Sheet 13財務データ
A1: 財務情報 Financial data
C2: 16.3 | D2: 17.3 | E2: 18.3 | F2: 19.3 | G2: 20.3 | H2: 21.3 | I2: 22.3 | J2: 23.3 | K2: 24.3 | L2: 25.3 | M2: 26.3
A3: ■売上高・利益 ■ Sales and Profit
A4: 売上高 Net sales | B4: 百万円 million yen | C4: 1322012 | D4: 1183846 | E4: 1296238 | F4: 1371863 | G4: 1368689 | H4: 1364106 | I4: 1591120 | J4: 2275113 | K4: 2083050 | L4: 2069019 | M4: 2030302
A5: 営業利益 Operating profit | B5: 百万円 million yen | C5: 146674 | D5: 97250 | E5: 78118 | F5: 67977 | G5: 83792 | H5: 112491 | I5: 99201 | J5: 60001 | K5: 172553 | L5: 160731 | M5: 174809
A6: 経常利益 Ordinary profit | B6: 百万円 million yen | C6: 134986 | D6: 96276 | E6: 77087 | F6: 63103 | G6: 86018 | H6: 127752 | I6: 113525 | J6: 75649 | K6: 226563 | L6: 189647 | M6: 204522
A7: 親会社株主に帰属する当期純利益 Profit attributable to owners of parent | B7: 百万円 million yen | C7: 84324 | D7: 61271 | E7: 37724 | F7: 33601 | G7: 41788 | H7: 80857 | I7: 130421 | J7: 57110 | K7: 132679 | L7: 134414 | M7: 152751
A8: セグメント利益 Segment Profit | B8: 百万円 million yen | C8: 142136 | D8: 99036 | E8: 78376 | F8: 69073 | G8: 89018 | H8: 126109 | I8: 112043 | J8: 72931 | K8: 204536 | L8: 181384 | M8: 198748
A9: タイムラグ差損益 Time lag profit and loss | B9: 百万円 million yen | C9: 81712 | D9: 13789 | E9: 519 | F9: -13273 | G9: 6513 | H9: 1696 | I9: -62321 | J9: -34711 | K9: 28523 | L9: 4278 | M9: 9135
A10: 数理計算上の差異の費用処理額（利益影響） Expense Processing Amount for Actuarial Differences (Impact on Profit) | B10: 百万円 million yen | C10: -676 | D10: -8906 | E10: -9272 | F10: -2591 | G10: 3396 | H10: 2884 | I10: 7146 | J10: 10289 | K10: 9701 | L10: 8225 | M10: 7700
A11: ■資産・負債 ■ Assets and Liabilities
A12: 総資産 Total assets | B12: 百万円 million yen | C12: 1829756 | D12: 1886577 | E12: 1897230 | F12: 2029722 | G12: 2140482 | H12: 2313357 | I12: 2588086 | J12: 2819589 | K12: 2980127 | L12: 3200525 | M12: 3321405
A13: 純資産 net assets | B13: 百万円 million yen | C13: 935786 | D13: 991870 | E13: 1028799 | F13: 1035044 | G13: 1027667 | H13: 1114597 | I13: 1296089 | J13: 1417178 | K13: 1604992 | L13: 1739291 | M13: 1854028
A14: 自己資本 equity capital | B14: 百万円 million yen | C14: 906623 | D14: 961905 | E14: 999569 | F14: 1004340 | G14: 997492 | H14: 1081881 | I14: 1271617 | J14: 1391421 | K14: 1577512 | L14: 1688794 | M14: 1806042
A15: 負債 Debt | B15: 百万円 million yen | C15: 893970 | D15: 894706 | E15: 868430 | F15: 994678 | G15: 1112815 | H15: 1198759 | I15: 1291996 | J15: 1402410 | K15: 1375135 | L15: 1461234 | M15: 1467377
A16: 有利子負債 interest-bearing debt | B16: 百万円 million yen | C16: 567164 | D16: 540668 | E16: 503789 | F16: 647465 | G16: 754006 | H16: 785383 | I16: 815079 | J16: 981556 | K16: 938292 | L16: 972423 | M16: 940735
A17: 発行済みハイブリッド社債 Issued hybrid corporate bonds | B17: 百万円 million yen | C17: - | D17: - | E17: - | F17: - | G17: 100000 | H17: 175000 | I17: 175000 | J17: 175000 | K17: 175000 | L17: 175000 | M17: 175000
A18: ■キャッシュ・フロー ■ Cash Flow
A19: 営業活動によるキャッシュ・フロー Cash flows from operating activities | B19: 百万円 million yen | C19: 281819 | D19: 148801 | E19: 168731 | F19: 65116 | G19: 182892 | H19: 219797 | I19: 145350 | J19: 33572 | K19: 312609 | L19: 283681 | M19: 340740
A20: 投資活動によるキャッシュ・フロー Cash flows from investing activities | B20: 百万円 million yen | C20: -144198 | D20: -137527 | E20: -110456 | F20: -204192 | G20: -232266 | H20: -198354 | I20: -152163 | J20: -203938 | K20: -215944 | L20: -255626 | M20: -241852
A21: 財務活動によるキャッシュ・フロー Cash flows from financing activities | B21: 百万円 million yen | C21: -90716 | D21: -50530 | E21: -51591 | F21: 85262 | G21: 79272 | H21: -1636 | I21: -30479 | J21: 119617 | K21: -110123 | L21: -34085 | M21: -129177
A22: フリーキャッシュフロー free cash flow | B22: 百万円 million yen | C22: 137620 | D22: 11274 | E22: 58274 | F22: -139076 | G22: -49374 | H22: 21443 | I22: -6813 | J22: -170365 | K22: 96665 | L22: 28055 | M22: 98888
A23: 現金及び現金同等物の期末残高 Cash and cash equivalents at end of period | B23: 百万円 million yen | C23: 209367 | D23: 166912 | E23: 171061 | F23: 115769 | G23: 146813 | H23: 166762 | I23: 130769 | J23: 84793 | K23: 77229 | L23: 82309 | M23: 58492
C24: 16.3 | D24: 17.3 | E24: 18.3 | F24: 19.3 | G24: 20.3 | H24: 21.3 | I24: 22.3 | J24: 23.3 | K24: 24.3 | L24: 25.3 | M24: 26.3
A25: ■投資 ■ Investment
A26: 投資額合計（1+2） Total investment amount (1+2) | B26: 百万円 million yen | C26: 153902 | D26: 134046 | E26: 115494 | F26: 210164 | G26: 225896 | H26: 221383 | I26: 209261 | J26: 237249 | K26: 239588 | L26: 283125 | M26: 283320
A27: 品質向上投資 1 Quality Improvement Investment 1 | B27: 百万円 million yen | C27: 56051 | D27: 48253 | E27: 42191 | F27: 44205 | G27: 57498 | H27: 68873 | I27: 67931 | J27: 65019 | K27: 73367 | L27: 73706 | M27: 79851
A28: 成長投資 2 Growth Investment 2 | B28: 百万円 million yen | C28: 97850 | D28: 85792 | E28: 73303 | F28: 165958 | G28: 168398 | H28: 152510 | I28: 141329 | J28: 172229 | K28: 166220 | L28: 209419 | M28: 203468
A29: 設備投資額（投資額合計の内数） Capital Investment Amount (Amount of Total Investment) | B29: 百万円 million yen | C29: 114418 | D29: 88657 | E29: 81716 | F29: 107259 | G29: 131010 | H29: 189454 | I29: 189317 | J29: 195330 | K29: 198421 | L29: 221735 | M29: 255499
A30: 1. セグメント利益 (■売上高・利益) - --[ 営業利益＋持分法投資損益] 1. Segment Profit (■Net Sales/Profit) - -- [Operating Profit + Equity-method Investment Gain/Loss]
A31: 2. タイムラグ差損益 (■売上高・利益) - --原・燃料費調整制度に基づき、原・燃料価格の変動を販売単価に反映するまでの一時的な増減益。21.3期から電力事業のタイムラグ差損益を含む
A32: 2. Time lag profit or loss (■ Net sales and profit) - -- A temporary increase or decrease in profit or decrease until fluctuations in raw and fuel prices are reflected in the selling unit price under the raw material and fuel cost adjustment system.
A33: Including time lag profit and loss from the power business from the third fiscal year of 21.
A34: 3. 総資産 (■資産・負債) - --18.3期実績は「税効果会計に係る会計基準」の一部改正を考慮して算定
A35: 3. Total Assets (■ Assets & Liabilities) - -- 18. Results for the third period were calculated considering partial revisions to the "Accounting Standards for Tax Effect Accounting."
A36: 4. 負債 (■資産・負債) - --18.3期実績は「税効果会計に係る会計基準」の一部改正を考慮して算定 4. Liabilities (■ Assets and Liabilities) - -- Third Fiscal Year results calculated considering partial revisions to the "Accounting Standards for Tax Effect Accounting"
A37: 5. 発行済みハイブリッド社債 (■資産・負債) - --有利子負債の内数 5. Issued Hybrid Bonds (■ Assets & Liabilities) - -- Amount of interest-bearing debt
A38: 6. フリーキャッシュフロー (■キャッシュ・フロー) - --[営業活動によるキャッシュ・フロー + 投資活動によるキャッシュ・フロー] 6. Free Cash Flow (■ Cash Flow) - -- [Cash Flow from Operating Activities + Cash Flow from Investing Activities]
A39: 7. 設備投資額（投資額合計の内数） (■投資) - --[投資額合計-出資額(M&A、既存関係会社への追加出資等）] 7. Capital Investment Amount (Amount of Total Investment) (■Investment) - -- [Total Investment - Investment Amount (M&A, Additional Investment in Existing Affiliates, etc.)]
A40: 8. BS関連項目は各3月末時点 8. BS-related items as of the end of March
...

Sheet 14 セグメント
A1: セグメント別 by Segment
B3: セグメント別情報 Segment Information | D3: 16.3 | E3: 17.3 | F3: 18.3 | G3: 19.3 | H3: 20.3 | I3: 21.3 | J3: 22.3 | K3: 23.3 | L3: 24.3 | M3: 25.3 | N3: 26.3
B4: ■売上高 ■ Sales
B5: 連結 Consolidated | C5: 百万円 million yen | D5: 1322012 | E5: 1183846 | F5: 1296238 | G5: 1371863 | H5: 1368689 | I5: 1364106 | J5: 1591120 | K5: 2275113 | L5: 2083050 | M5: 2069019 | N5: 2030302
B6: 国内エネルギー Domestic Energy | C6: 百万円 million yen | D6: - | E6: - | F6: - | G6: - | H6: - | I6: - | J6: 1340784 | K6: 1971694 | L6: 1770666 | M6: 1737905 | N6: 1643406
B7: 海外エネルギー International Energy | C7: 百万円 million yen | D7: 18701 | E7: 22632 | F7: 22570 | G7: 40489 | H7: 61254 | I7: 69199 | J7: 80779 | K7: 123299 | L7: 116448 | M7: 128151 | N7: 143790
B8: ライフ&ビジネスソリューション Life & Business Solutions | C8: 百万円 million yen | D8: 221702 | E8: 217600 | F8: 201472 | G8: 210914 | H8: 219432 | I8: 216585 | J8: 237086 | K8: 258543 | L8: 274026 | M8: 282466 | N8: 319839
B9: 調整 Adjustments | C9: 百万円 million yen | D9: -73326 | E9: -67742 | F9: -61827 | G9: -76497 | H9: -90522 | I9: -85059 | J9: -67091 | K9: -78423 | L9: -78091 | M9: -79503 | N9: -76734
B10: ガス(-17.3） Gas (-17.3) | C10: 百万円 million yen | D10: 948501 | E10: 802331 | F10: - | G10: - | H10: - | I10: - | J10: - | K10: - | L10: - | M10: - | N10: -
B11: LPG・電力・その他エネルギー(-17.3） LPG, electricity, and other energy (-17.3%) | C11: 百万円 million yen | D11: 206433 | E11: 209026 | F11: - | G11: - | H11: - | I11: - | J11: - | K11: - | L11: - | M11: - | N11: -
B12: 国内エネルギー・ガス(-21.3） Domestic Energy & Gas (-21.3) | C12: 百万円 million yen | D12: - | E12: - | F12: 976269 | G12: 1012642 | H12: 976963 | I12: 916089 | J12: - | K12: - | L12: - | M12: - | N12: -
B13: 国内エネルギー・電力(-21.3） Domestic Energy and Electricity (-21.3%) | C13: 百万円 million yen | D13: - | E13: - | F13: 157752 | G13: 184313 | H13: 201561 | I13: 247291 | J13: - | K13: - | L13: - | M13: - | N13: -
B14: ■セグメント利益 ■ Segment Profit
B15: 連結 Consolidated | C15: 百万円 million yen | D15: 142136 | E15: 99036 | F15: 78376 | G15: 69073 | H15: 89018 | I15: 126109 | J15: 112043 | K15: 72931 | L15: 204536 | M15: 181384 | N15: 198748
B16: 国内エネルギー Domestic Energy | C16: 百万円 million yen | D16: - | E16: - | F16: - | G16: - | H16: - | I16: - | J16: 44157 | K16: -27324 | L16: 92267 | M16: 77554 | N16: 71941
B17: 海外エネルギー International Energy | C17: 百万円 million yen | D17: -277 | E17: 7477 | F17: -5338 | G17: 5974 | H17: 8162 | I17: 22115 | J17: 44330 | K17: 69718 | L17: 79643 | M17: 71933 | N17: 88397
B18: ライフ&ビジネスソリューション Life & Business Solutions | C18: 百万円 million yen | D18: 18834 | E18: 20414 | F18: 18284 | G18: 17714 | H18: 19676 | I18: 19250 | J18: 23516 | K18: 29237 | L18: 31039 | M18: 28767 | N18: 37447
B19: 調整 Adjustments | C19: 百万円 million yen | D19: -997 | E19: 944 | F19: 1728 | G19: 850 | H19: 122 | I19: 4375 | J19: 39 | K19: 1300 | L19: 1586 | M19: 3129 | N19: 963
B20: タイムラグ差損益（国内エネ内数） Time lag difference profit and loss (domestic energy portion) | C20: 百万円 million yen | D20: 81712 | E20: 13789 | F20: 519 | G20: -13273 | H20: 6513 | I20: 1696 | J20: -62321 | K20: -34711 | L20: 28523 | M20: 4278 | N20: 9135
B21: 数理計算上の差異の費用処理額（国内エネ内数・利益影響で記載） Amount of expense processing for differences in actuarial calculations (listed under domestic energy revenue and profit impact) | C21: 百万円 million yen | D21: -676 | E21: -8906 | F21: -9272 | G21: -2591 | H21: 3396 | I21: 2884 | J21: 7146 | K21: 10289 | L21: 9701 | M21: 8225 | N21: 7700
B22: ガス(-17.3） Gas (-17.3) | C22: 百万円 million yen | D22: 95724 | E22: 48123 | F22: - | G22: - | H22: - | I22: - | J22: - | K22: - | L22: - | M22: - | N22: -
B23: LPG・電力・その他エネルギー(-17.3） LPG, electricity, and other energy (-17.3%) | C23: 百万円 million yen | D23: 28852 | E23: 22075 | F23: - | G23: - | H23: - | I23: - | J23: - | K23: - | L23: - | M23: - | N23: -
B24: 国内エネルギー・ガス(-21.3） Domestic Energy & Gas (-21.3) | C24: 百万円 million yen | D24: - | E24: - | F24: 42987 | G24: 35809 | H24: 53200 | I24: 65335 | J24: - | K24: - | L24: - | M24: - | N24: -
B25: 国内エネルギー・電力(-21.3） Domestic Energy and Electricity (-21.3%) | C25: 百万円 million yen | D25: - | E25: - | F25: 20714 | G25: 8724 | H25: 7855 | I25: 15032 | J25: - | K25: - | L25: - | M25: - | N25: -
B26: ■セグメント資産 ■ Segment Assets
B27: 連結 Consolidated | C27: 百万円 million yen | D27: 1829756 | E27: 1886577 | F27: 1897230 | G27: 2029722 | H27: 2140482 | I27: 2313357 | J27: 2588086 | K27: 2819589 | L27: 2980127 | M27: 3200525 | N27: 3321405
B28: 国内エネルギー Domestic Energy | C28: 百万円 million yen | D28: - | E28: - | F28: - | G28: - | H28: - | I28: - | J28: 1522813 | K28: 1576809 | L28: 1588251 | M28: 1640829 | N28: 1712354
B29: 海外エネルギー International Energy | C29: 百万円 million yen | D29: 401590 | E29: 453804 | F29: 462351 | G29: 572881 | H29: 625410 | I29: 634126 | J29: 677097 | K29: 829581 | L29: 941579 | M29: 1105498 | N29: 1083903
B30: ライフ&ビジネスソリューション Life & Business Solutions | C30: 百万円 million yen | D30: 411459 | E30: 413448 | F30: 350138 | G30: 374311 | H30: 390693 | I30: 419172 | J30: 438178 | K30: 453058 | L30: 491252 | M30: 528326 | N30: 571501
B31: 調整 Adjustments | C31: 百万円 million yen | D31: 71657 | E31: 69544 | F31: 62066 | G31: 50300 | H31: 4815 | I31: 29659 | J31: -50002 | K31: -39860 | L31: -40956 | M31: -74128 | N31: -46354
B32: ガス(-17.3） Gas (-17.3) | C32: 百万円 million yen | D32: 772825 | E32: 766272 | F32: - | G32: - | H32: - | I32: - | J32: - | K32: - | L32: - | M32: - | N32: -
B33: LPG・電力・その他エネルギー(-17.3） LPG, electricity, and other energy (-17.3%) | C33: 百万円 million yen | D33: 172223 | E33: 183507 | F33: - | G33: - | H33: - | I33: - | J33: - | K33: - | L33: - | M33: - | N33: -
B34: 国内エネルギー・ガス(-21.3） Domestic Energy & Gas (-21.3) | C34: 百万円 million yen | D34: - | E34: - | F34: 865154 | G34: 866906 | H34: 911159 | I34: 955934 | J34: - | K34: - | L34: - | M34: - | N34: -
B35: 国内エネルギー・電力(-21.3） Domestic Energy and Electricity (-21.3%) | C35: 百万円 million yen | D35: - | E35: - | F35: 157519 | G35: 165322 | H35: 208403 | I35: 274463 | J35: - | K35: - | L35: - | M35: - | N35: -
B36: ■セグメント資産セグメント利益率 ■ Segment Assets Segment Profit Margin
B37: 連結 Consolidated | C37: ％ | D37: 7.7 | E37: 5.3 | F37: 4.1 | G37: 3.5 | H37: 4.3 | I37: 5.7 | J37: 4.6 | K37: 2.7 | M37: 5.9 | N37: 6.0947603
B38: 国内エネルギー Domestic Energy | C38: ％ | D38: - | E38: - | F38: - | G38: - | H38: - | I38: - | J38: 3.2 | K38: -0.01 | L38: 5.8 | M38: 4.8 | N38: 4.2909081
B39: 海外エネルギー International Energy | C39: ％ | D39: -0.01 | E39: 1.7 | F39: -0.01 | G39: 1.2 | H39: 1.4 | I39: 3.5 | J39: 6.8 | K39: 9.3 | L39: 9 | M39: 7 | N39: 8.074994
B40: ライフ&ビジネスソリューション Life & Business Solutions | C40: ％ | D40: 4.7 | E40: 4.9 | F40: 5.3 | G40: 4.9 | H40: 5.1 | I40: 4.8 | J40: 5.5 | K40: 6.6 | L40: 6.6 | M40: 5.6 | N40: 6.8096164
B41: ガス(-17.3） Gas (-17.3) | C41: ％ | D41: 12 | E41: 6.3 | F41: - | G41: - | H41: - | I41: - | J41: - | K41: - | L41: - | M41: - | N41: -
...

Sheet 15ESG
A1: ESG
B3: 環境 Environment | D3: 17.3 | E3: 18.3 | F3: 19.3 | G3: 20.3 | H3: 21.3 | I3: 22.3 | J3: 23.3 | K3: 24.3 | L3: 25.3 | M3: 26.3
B4: ■GHG排出量 ■ GHG Emissions
B5: GHG排出量 GHG Emissions | C5: 千t-CO2e thousand t-CO₂e | D5: 36127 | E5: 36630 | F5: 34808 | G5: 32907 | H5: 27784 | I5: 26785 | J5: 25977 | K5: 25632 | L5: 24420 | M5: 24149
B6: スコープ1 Scope 1 | C6: 千t-CO2e thousand t-CO₂e | D6: 4090 | E6: 4888 | F6: 5052 | G6: 4660 | H6: 5215 | I6: 4526 | J6: 4406 | K6: 4441 | L6: 4440 | M6: 4361
B7: スコープ2 Scope 2 | C7: 千t-CO2e thousand t-CO₂e | D7: 273 | E7: 270 | F7: 298 | G7: 303 | H7: 297 | I7: 334 | J7: 324 | K7: 324 | L7: 335 | M7: 305
B8: スコープ3 Scope 3 | C8: 千t-CO2e thousand t-CO₂e | D8: 31764 | E8: 31471 | F8: 29459 | G8: 27944 | H8: 22271 | I8: 21925 | J8: 21247 | K8: 20867 | L8: 19646 | M8: 19484
B9: ■CO2排出削減貢献量 ■ Contribution to CO2 Emission Reduction
B10: CO2排出削減貢献量 CO2 Emission Reduction Contribution | C10: 千t-CO2 kilot-CO2 | D10: - | E10: -609 | F10: -1057 | G10: -1650 | H10: -2280 | I10: -3356 | J10: -3863 | K10: -5008 | L10: -6291 | M10: -7378
B11: ■再エネ普及貢献量 ■ Contribution to renewable energy spread
B12: 再エネ普及貢献量 Contribution to renewable energy spread | C12: MW | D12: - | E12: - | F12: - | G12: - | H12: - | I12: 1398 | J12: 2110 | K12: 3166 | L12: 3696 | M12: 4540
B13: ■国内電力事業の再生可能エネルギー比率 ■ Ratio of Renewable Energy in Domestic Power Businesses
B14: 国内電力事業の再生可能エネルギー比率 Ratio of Renewable Energy in Domestic Power Businesses | C14: % | D14: - | E14: - | F14: - | G14: - | H14: 5 | I14: 8 | J14: 13 | K14: 22 | L14: 30 | M14: 38
B15: 1. ■GHG排出量 - 各3月末時点 1. ■GHG Emissions - As of the end of March
B16: 2. ■GHG排出量 - 対象の温室効果ガスは、CO2、メタン（CH4）、N2Oおよびフロン類（HFC）です。 2. ■ GHG Emissions - The greenhouse gases targeted are CO2, methane (CH4), N2O, and fluorocarbons (HFCs).
B17: 3. スコープ3 (■GHG排出量) - ---Daigasグループ事業全体のバリューチェーンを対象に、2015年度からスコープ3排出量を算定しています。
B18: 3. Scope 3 (■GHG Emissions) - --- has been calculating Scope 3 emissions from fiscal 2015 across the entire value chain of the Daigas Group business.
B19: 4. ■CO2排出削減貢献量 - 各3月末時点 4. ■ CO2 Emission Reduction Contribution - As of the end of March
B20: 5. CO2排出削減貢献量 (■CO2排出削減貢献量) - ---2017年度以降にお客さま先や自社事業活動に導入する高効率設備や低炭素エネルギー等により、算定年度1年間にCO2排出を削減すると推定される効果を算定
B21: 5. CO2 Emission Reduction Contribution (■ CO2 Emission Reduction Contribution) - --- Estimated effect of reducing CO2 emissions within one year of the calculation year through high-efficiency equipment and low-carbon energy
B22: introduced to customers and in-house business activities from fiscal year 2017 onward.
B23: 6. ■再エネ普及貢献量 - 各3月末時点 6. ■ Renewable Energy Spread Contribution Amount - As of the end of March
B24: 7. ■国内電力事業の再生可能エネルギー比率 - 各3月末時点 7. ■ Ratio of Renewable Energy in Domestic Power Businesses - As of the end of March
B26: 社会 Society | D26: 19.3 | E26: 20.3 | F26: 21.3 | G26: 22.3 | H26: 23.3 | I26: 24.3 | J26: 25.3 | K26: 26.3
B27: ■女性従業員・管理職比率 ■ Ratio of Female Employees to Management
B28: 女性従業員比率・グループ Ratio of Female Employees & Groups | C28: % | D28: 28.2 | E28: 27.6 | F28: 28.3 | G28: 28.5 | H28: 28.2 | I28: 28.7 | J28: 29 | K28: 29.7
B29: 女性従業員比率 ・大阪ガス Ratio of female employees ・Osaka Gas | C29: % | D29: 15.4 | E29: 15.7 | F29: 17 | G29: 16.6 | H29: 23 | I29: 23.6 | J29: 24.3 | K29: 23.2
B30: 女性管理職比率・グループ Ratio of Female Managers & Groups | C30: % | D30: 6.8 | E30: 6.6 | F30: 7.5 | G30: 8 | H30: 8.4 | I30: 8.5 | J30: 8.7 | K30: 9.9
B31: ■離職率(大阪ガスおよび基盤会社、大阪ガスネットワーク) ■ Turnover Rate (Osaka Gas and its base companies, Osaka Gas Network)
B32: 離職率 turnover rate | C32: % | D32: 1.42 | E32: 1.05 | F32: 1.23 | G32: 1.72 | H32: 1.75 | I32: 2.11 | J32: 2.04 | K32: 1.98
B33: ■育児休業・短時間勤務(大阪ガス) ■ Childcare leave and shortened working hours (Osaka Gas)
B34: 育児休業・育児目的休暇 Childcare leave and childcare leave | C34: 人 persons | D34: 201 | E34: 201 | F34: 111 | G34: 135 | H34: 46 | I34: 59 | J34: 39 | K34: 69
B35: 育児休業 ・育児目的休暇のうち、男性 Childcare leave ・Leave for childcare purposes, male | C35: 人 persons | D35: 178 | E35: 172 | F35: 97 | G35: 123 | H35: 36 | I35: 45 | J35: 34 | K35: 59
B36: 育児短時間勤務 Childcare Shortened Working Hours | C36: 人 persons | D36: 35 | E36: 33 | F36: 22 | G36: 26 | H36: 29 | I36: 25 | J36: 28 | K36: 27
B37: ■介護休業(大阪ガス) ■ Care Leave (Osaka Gas)
B38: 介護休業 nursing care leave | C38: 人 persons | D38: 2 | E38: 1 | F38: 0 | G38: 0 | H38: 1 | I38: 0 | J38: 0 | K38: 0
B39: 介護短時間勤務 Short-time care work | C39: 人 persons | D39: 1 | E39: 0 | F39: 1 | G39: 1 | H39: 0 | I39: 1 | J39: 0 | K39: 0
B40: ■障がい者雇用率(大阪ガス) ■ Employment Rate of Persons with Disabilities (Osaka Gas)
B41: 障がい者雇用率 Employment rate of people with disabilities | C41: % | D41: 2.36 | E41: 2.4 | F41: 2.34 | G41: 2.45 | H41: 2.59 | I41: 2.71 | J41: 2.88 | K41: 3.07
B42: 1. ■女性従業員・管理職比率 - 各3月末時点 1. ■ Ratio of female employees and managers - As of the end of March
...

Sheet 16単位換算
A1: (参考) 単位換算 (Reference) Unit Conversion
A3: ■発熱換算表 ■ Heat Conversion Table
A4: メガジュール （MJ=106J） Megajoule （MJ=106J） | B4: キロワット時 （kWh） | C4: キロカロリー （kcal） | D4: 原油換算キロリットル （kl） Crude oil equivalent kiloliters （kl） | E4: 石油換算トン （TOE） | F4: 英国熱量単位 （BTU）
A5: 1 | B5: 0.278 | C5: 239 | D5: 0.0258×10-3 | E5: 0.0239×10-3 | F5: 948
A6: 3.6 | B6: 1 | C6: 860 | D6: 0.0930×10-3 | E6: 0.0860×10-3 | F6: 3412
A7: 0.00419 | B7: 0.00116 | C7: 1 | D7: 1.08×10-7 | E7: 10-7 | F7: 3.97
A8: 3.87×104 | B8: 1.08×104 | C8: 9.25×106 | D8: 1 | E8: 0.925 | F8: 3.67×107
A9: 4.19×104 | B9: 1.16×104 | C9: 107 | D9: 1.08 | E9: 1 | F9: 3.97×107
A10: 0.00106 | B10: 2.93×10-4 | C10: 0.252 | D10: 2.72×10-8 | E10: 2.52×10-8 | F10: 1
A13: ■原油量換算表 ■ Crude Oil Volume Conversion Table
A14: バレル(bbl) | B14: リットル(l) Liters (L) | C14: トン(t) ton (t)
A15: 1 | B15: 159 | C15: 0.14
A16: 6.3 | B16: 1000 | C16: 0.88
A17: 7.3 | B17: 1159 | C17: 1
A19: ■１トンのＬＮＧから製造できるガス量（産気量） ■ Gas Volume (Gas Production) Can Be Produced from 1 Ton of LNG
A20: ＬＮＧ1トン≒2m3（液体積）≒1,200m3Ｎ（0℃･1気圧･45MJでのガス量） LNG 1 ton ≒ 2 m³ (liquid volume) ≒ 1,200 m³ N (gas volume at 0°C, 1 atmosphere, 45 MJ)
A21: ■ ＬＮＧ火力発電（熱効率40％、稼働率を50％とする場合） ■ LNG-fired power generation (assuming thermal efficiency of 40% and operating rate of 50%)
A22: ＬＮＧ1トン≒6,048kWh 1 ton of LNG ≒ 6,048 kWh
A23: 100万kWの発電設備…約72万トン/年のＬＮＧを消費 1 million kW power generation facility... Approximately 720,000 tons of LNG consumed per year
A24: 出所：経済産業省｢総合エネルギー統計｣より算出 Source: Calculated from the Ministry of Economy, Trade and Industry's 'Comprehensive Energy Statistics'
